BEGIN:VCALENDAR
METHOD:PUBLISH
VERSION:2.0
CALSCALE:GREGORIAN
PRODID:-//NONSGML WPForms//NONSGML Sugar Calendar Feeds v3.10.0//EN
X-WR-CALNAME:Vacation Bible School
X-WR-CALDESC:Lowerytown Missionary Baptist Church
X-WR-TIMEZONE:UTC
BEGIN:VTIMEZONE
TZID:UTC
BEGIN:STANDARD
TZOFFSETFROM:+0000
TZOFFSETTO:+0000
DTSTART:20241209T060000
TZNAME:UTC
END:STANDARD
END:VTIMEZONE
BEGIN:VTIMEZONE
TZID:UTC
BEGIN:STANDARD
TZOFFSETFROM:+0000
TZOFFSETTO:+0000
DTSTART:20241209T060000
TZNAME:UTC
END:STANDARD
END:VTIMEZONE
BEGIN:VEVENT
SUMMARY:Vacation Bible School
DESCRIPTION:For kids 5 yrs. old through 6th grade
URL;VALUE=URI:https://lowerytownbc.com/events/vacation-bible-school-3/
UID:urn:uuid:df6377b5-cfb7-4a32-9ac1-4a111f24c6f5
STATUS:CONFIRMED
ORGANIZER:
DTSTAMP:20260420T130017Z
DTSTART;TZID=UTC:20250609T180000
DTEND;TZID=UTC:20250613T203000
END:VEVENT
END:VCALENDAR