BEGIN:VCALENDAR
METHOD:PUBLISH
VERSION:2.0
CALSCALE:GREGORIAN
PRODID:-//NONSGML WPForms//NONSGML Sugar Calendar Feeds v3.10.0//EN
X-WR-CALNAME:WMU Block Party
X-WR-CALDESC:Lowerytown Missionary Baptist Church
X-WR-TIMEZONE:UTC
BEGIN:VTIMEZONE
TZID:UTC
BEGIN:STANDARD
TZOFFSETFROM:+0000
TZOFFSETTO:+0000
DTSTART:20241206T190000
TZNAME:UTC
END:STANDARD
END:VTIMEZONE
BEGIN:VTIMEZONE
TZID:UTC
BEGIN:STANDARD
TZOFFSETFROM:+0000
TZOFFSETTO:+0000
DTSTART:20241206T190000
TZNAME:UTC
END:STANDARD
END:VTIMEZONE
BEGIN:VEVENT
SUMMARY:WMU Block Party
DESCRIPTION:Lots of booths and yard sale
URL;VALUE=URI:https://lowerytownbc.com/events/wmu-block-party/
UID:urn:uuid:874301fc-c25c-4702-bb7e-ad01659de502
STATUS:CONFIRMED
ORGANIZER:
DTSTAMP:20260420T142545Z
DTSTART;TZID=UTC:20250607T070000
DTEND;TZID=UTC:20250607T120000
END:VEVENT
END:VCALENDAR